BEGIN:VCALENDAR
VERSION:2.0
PRODID:-//Squarespace Inc/Squarespace 6//v6//EN
BEGIN:VEVENT
UID:5cf9c8347830720001e50e5f@squarespace.com
DTSTAMP:20190607T021342Z
DTSTART:20190708T054500Z
DTEND:20190711T074500Z
SUMMARY:Learn to shape 
GEO:-43.557541;172.679734
LOCATION:Sadhana Surfboards\, The Tannery\, Woolston\, Christchurch\, Cante
 rbury\, 8023\, New Zealand
END:VEVENT
END:VCALENDAR
