BEGIN:VCALENDAR
VERSION:2.0
PRODID:-//Squarespace Inc/Squarespace 6//v6//EN
BEGIN:VEVENT
UID:5e44699a0b0355603b897812@squarespace.com
DTSTAMP:20200212T213357Z
DTSTART:20200518T044500Z
DTEND:20200521T071500Z
SUMMARY:Learn to shape  
GEO:-43.557541;172.679734
LOCATION:Sadhana Surfboards\, The Tannery\, Woolston\, Christchurch\, Cante
 rbury\, 8023\, New Zealand
END:VEVENT
END:VCALENDAR
