BEGIN:VCALENDAR
VERSION:2.0
PRODID:-//Squarespace Inc/Squarespace 6//v6//EN
BEGIN:VEVENT
UID:5cee0bb753450a39411afdaa@squarespace.com
DTSTAMP:20190531T041333Z
DTSTART:20190812T054500Z
DTEND:20190815T074500Z
SUMMARY: Learn to shape 
GEO:-43.557541;172.679734
LOCATION:Sadhana Surfboards\, The Tannery\, Woolston\, Christchurch\, Cante
 rbury\, 8023\, New Zealand
END:VEVENT
END:VCALENDAR
