BEGIN:VCALENDAR
VERSION:2.0
PRODID:-//Squarespace Inc/Squarespace 6//v6//EN
BEGIN:VEVENT
UID:5cee0bd553450a39411afee0@squarespace.com
DTSTAMP:20190531T041247Z
DTSTART:20190805T054500Z
DTEND:20190808T074500Z
SUMMARY: Learn to shape 
GEO:-43.557541;172.679734
LOCATION:Sadhana Surfboards\, The Tannery\, Woolston\, Christchurch\, Cante
 rbury\, 8023\, New Zealand
END:VEVENT
END:VCALENDAR
